BEGIN:VCALENDAR
VERSION:2.0
CALSCALE:GREGORIAN
PRODID:-//Diputació de Barcelona//DibaCMS//EN
BEGIN:VEVENT
UID:3164
DTSTAMP:20260422T152704
DTSTART:20250301T183000
DTEND:20250301T200000
SUMMARY:Presentació del llibre "El gran desordre"
LOCATION:Pg.Verdaguer, 7 08519 Vilanova de Sau
METHOD:PUBLISH
X-WR-CALNAME:vilanovas@vilanovadesau.cat
X-WR-TIMEZONE:Europe/Madrid
DESCRIPTION:Més informació: https://tuit.cat/kI75g

URI:https://www.vilanovadesau.cat/actualitat/agenda/presentacio-del-llibre-el-gran-desordre.html
CLASS:PUBLIC
END:VEVENT
END:VCALENDAR
