BEGIN:VCALENDAR
VERSION:2.0
CALSCALE:GREGORIAN
PRODID:-//Diputació de Barcelona//DibaCMS//EN
BEGIN:VEVENT
UID:3180
DTSTAMP:20260422T135012
DTSTART:20250315T090000
DTEND:20250315T160000
SUMMARY:Campionat d’Espanya RC Ral·li
LOCATION:08519 Vilanova de Sau
METHOD:PUBLISH
X-WR-CALNAME:vilanovas@vilanovadesau.cat
X-WR-TIMEZONE:Europe/Madrid
DESCRIPTION:Més informació a: Osona RC Club

URI:https://www.vilanovadesau.cat/actualitat/agenda/campionat-despanya-rc-ralli.html
CLASS:PUBLIC
END:VEVENT
END:VCALENDAR
