BEGIN:VCALENDAR
VERSION:2.0
CALSCALE:GREGORIAN
PRODID:-//Diputació de Barcelona//DibaCMS//EN
BEGIN:VEVENT
UID:3349
DTSTAMP:20260421T174738
DTSTART:20260425T080000
DTEND:20260426T235900
SUMMARY:Deixalleria mòbil i recollida de voluminosos
LOCATION:08519 Vilanova de Sau
METHOD:PUBLISH
X-WR-CALNAME:vilanovas@vilanovadesau.cat
X-WR-TIMEZONE:Europe/Madrid
DESCRIPTION:Deixalleria mòbil: dissabte de 8h a 15h.
Caixa de recollida de voluminosos: durant tot el cap de setmana.

URI:https://www.vilanovadesau.cat/actualitat/agenda/3349-deixalleria-mobil-i-recollida-de-voluminosos.html
CLASS:PUBLIC
END:VEVENT
END:VCALENDAR
