BEGIN:VCALENDAR
VERSION:2.0
CALSCALE:GREGORIAN
PRODID:-//Diputació de Barcelona//DibaCMS//EN
BEGIN:VEVENT
UID:3351
DTSTAMP:20260422T153334
DTSTART:20260829T080000
DTEND:20260830T235900
SUMMARY:Deixalleria mòbil i recollida de voluminosos
LOCATION:08519 Vilanova de Sau
METHOD:PUBLISH
X-WR-CALNAME:vilanovas@vilanovadesau.cat
X-WR-TIMEZONE:Europe/Madrid
DESCRIPTION:Deixalleria mòbil: dissabte de 8h a 14h.
Recollida de voluminosos: durant tot el cap de setmana.

URI:https://www.vilanovadesau.cat/actualitat/agenda/3351-deixalleria-mobil-i-recollida-de-voluminosos.html
CLASS:PUBLIC
END:VEVENT
END:VCALENDAR
