BEGIN:VCALENDAR
VERSION:2.0
CALSCALE:GREGORIAN
PRODID:-//Diputació de Barcelona//DibaCMS//EN
BEGIN:VEVENT
UID:3352
DTSTAMP:20260422T152813
DTSTART:20261024T080000
DTEND:20261025T235900
SUMMARY:Recollida de voluminosos
LOCATION:08519 Vilanova de Sau
METHOD:PUBLISH
X-WR-CALNAME:vilanovas@vilanovadesau.cat
X-WR-TIMEZONE:Europe/Madrid
DESCRIPTION:Recollida de voluminosos: durant tot el cap de setmana.

URI:https://www.vilanovadesau.cat/actualitat/agenda/recollida-de-voluminosos.html
CLASS:PUBLIC
END:VEVENT
END:VCALENDAR
