BEGIN:VCALENDAR
VERSION:2.0
CALSCALE:GREGORIAN
PRODID:-//Diputació de Barcelona//DibaCMS//EN
BEGIN:VEVENT
UID:3355
DTSTAMP:20260422T170027
DTSTART:20261031T080000
DTEND:20261031T150000
SUMMARY:Deixalleria mòbil
LOCATION:08519 Vilanova de Sau
METHOD:PUBLISH
X-WR-CALNAME:vilanovas@vilanovadesau.cat
X-WR-TIMEZONE:Europe/Madrid
DESCRIPTION:Deixalleria mòbil: dissabte de 8h a 15h.

URI:https://www.vilanovadesau.cat/actualitat/agenda/3355-deixalleria-mobil.html
CLASS:PUBLIC
END:VEVENT
END:VCALENDAR
