BEGIN:VCALENDAR
VERSION:2.0
CALSCALE:GREGORIAN
PRODID:-//Diputació de Barcelona//DibaCMS//EN
BEGIN:VEVENT
UID:3363
DTSTAMP:20260422T171815
DTSTART:20260724T153000
DTEND:20260724T183000
SUMMARY:Bibliobús Puigdon
LOCATION:08519 Vilanova de Sau
METHOD:PUBLISH
X-WR-CALNAME:vilanovas@vilanovadesau.cat
X-WR-TIMEZONE:Europe/Madrid
DESCRIPTION:El Bibliobús Puigdon estarà instal.lat a la zona esportiva de 15:30h a 18:30h.

URI:https://www.vilanovadesau.cat/actualitat/agenda/3363-bibliobus-puigdon.html
CLASS:PUBLIC
END:VEVENT
END:VCALENDAR
