BEGIN:VCALENDAR
VERSION:2.0
CALSCALE:GREGORIAN
PRODID:-//Diputació de Barcelona//DibaCMS//EN
BEGIN:VEVENT
UID:3371
DTSTAMP:20260422T170830
DTSTART:20261218T153000
DTEND:20261218T183000
SUMMARY:Bibliobús Puigdon - duplicat
LOCATION:08519 Vilanova de Sau
METHOD:PUBLISH
X-WR-CALNAME:vilanovas@vilanovadesau.cat
X-WR-TIMEZONE:Europe/Madrid
DESCRIPTION:El Bibliobús Puigdon estarà instal.lat a la zona esportiva de 15:30h a 18:30h.

URI:https://www.vilanovadesau.cat/actualitat/agenda/bibliobus-puigdon-duplicat.html
CLASS:PUBLIC
END:VEVENT
END:VCALENDAR
