BEGIN:VCALENDAR
VERSION:2.0
CALSCALE:GREGORIAN
PRODID:-//Diputació de Barcelona//DibaCMS//EN
BEGIN:VEVENT
UID:3372
DTSTAMP:20260425T190037
DTSTART:20260428T093000
DTEND:20260428T110000
SUMMARY:Espai Activa't: formació plataforma espai activa't
LOCATION:Pg.Verdaguer, 7 08519 Vilanova de Sau
METHOD:PUBLISH
X-WR-CALNAME:vilanovas@vilanovadesau.cat
X-WR-TIMEZONE:Europe/Madrid
DESCRIPTION:A càrrec de Cris Chirveches i Laura Pla

URI:https://www.vilanovadesau.cat/actualitat/agenda/espai-activat-formacio-plataforma-espai-activat.html
CLASS:PUBLIC
END:VEVENT
END:VCALENDAR
